BEGIN:VCALENDAR
VERSION:2.0
PRODID:-//British Society of Criminology - ECPv5.14.1//NONSGML v1.0//EN
CALSCALE:GREGORIAN
METHOD:PUBLISH
X-WR-CALNAME:British Society of Criminology
X-ORIGINAL-URL:https://www.britsoccrim.org
X-WR-CALDESC:Events for British Society of Criminology
REFRESH-INTERVAL;VALUE=DURATION:PT1H
X-Robots-Tag:noindex
X-PUBLISHED-TTL:PT1H
BEGIN:VTIMEZONE
TZID:Europe/London
BEGIN:DAYLIGHT
TZOFFSETFROM:+0000
TZOFFSETTO:+0100
TZNAME:BST
DTSTART:20220327T010000
END:DAYLIGHT
BEGIN:STANDARD
TZOFFSETFROM:+0100
TZOFFSETTO:+0000
TZNAME:GMT
DTSTART:20221030T010000
END:STANDARD
END:VTIMEZONE
BEGIN:VEVENT
DTSTART;TZID=Europe/London:20221130T160000
DTEND;TZID=Europe/London:20221130T173000
DTSTAMP:20260426T004748
CREATED:20221115T115054Z
LAST-MODIFIED:20221115T115054Z
UID:10842-1669824000-1669829400@www.britsoccrim.org
SUMMARY:Historical Criminology Network seminar series
DESCRIPTION:Locating contemporary concerns within wider historical criminological interests\, in academia and beyond. \nRacist-Gendered State Violence: Punishing Migrant Women and Separating Families \nDr Monish Bhatia is a Lecturer in Criminology\, Birkbeck University\, London\, UK. \nChair: Karina Garcia-Reyes \nRegister via Eventbrite
URL:https://www.britsoccrim.org/event/historical-criminology-network-seminar-series-3/
CATEGORIES:BSC event
END:VEVENT
END:VCALENDAR