BEGIN:VCALENDAR
VERSION:2.0
PRODID:-//British Society of Criminology - ECPv5.14.1//NONSGML v1.0//EN
CALSCALE:GREGORIAN
METHOD:PUBLISH
X-WR-CALNAME:British Society of Criminology
X-ORIGINAL-URL:https://www.britsoccrim.org
X-WR-CALDESC:Events for British Society of Criminology
REFRESH-INTERVAL;VALUE=DURATION:PT1H
X-Robots-Tag:noindex
X-PUBLISHED-TTL:PT1H
BEGIN:VTIMEZONE
TZID:Europe/London
BEGIN:DAYLIGHT
TZOFFSETFROM:+0000
TZOFFSETTO:+0100
TZNAME:BST
DTSTART:20230326T010000
END:DAYLIGHT
BEGIN:STANDARD
TZOFFSETFROM:+0100
TZOFFSETTO:+0000
TZNAME:GMT
DTSTART:20231029T010000
END:STANDARD
END:VTIMEZONE
BEGIN:VEVENT
DTSTART;VALUE=DATE:20230308
DTEND;VALUE=DATE:20230309
DTSTAMP:20260425T202335
CREATED:20230215T155111Z
LAST-MODIFIED:20230215T155111Z
UID:11677-1678233600-1678319999@www.britsoccrim.org
SUMMARY:BSC Yorkshire & Humberside Regional Group Meeting
DESCRIPTION:The meeting will be at Sheffield Hallam University on Weds 8th March 2023 – the theme is Social Justice Research: Making Change Happen? \n\n\n\nThe theme of this one day workshop will focus broadly on social justice and criminal justice research and academic work with practitioners\, external organisations and partners. We are keen for speakers to reflect upon constructive collaboration as well as the various challenges that researchers working with practitioners or external organisations to make change happen\, for example\, putting theory into practice\, conflicting ideologies and outcomes\, or positionality or personal ethics. \nIf you are interested in speaking at this event about your research or your collaboration then please send a 150-200 word abstract to Helen Johnston H.Johnston@hull.ac.uk by Monday 13th February 2023. Papers will be approximately 15-20 mins. \nWe welcome submissions from all researchers and aim to create a positive and inviting forum for discussion so please do encourage doctoral researchers and early career researchers to submit a paper or just to come along and join the discussion.
URL:https://www.britsoccrim.org/event/bsc-yorkshire-humberside-regional-group-meeting/
CATEGORIES:BSC event
END:VEVENT
END:VCALENDAR