BEGIN:VCALENDAR
VERSION:2.0
PRODID:-//British Society of Criminology - ECPv5.14.1//NONSGML v1.0//EN
CALSCALE:GREGORIAN
METHOD:PUBLISH
X-WR-CALNAME:British Society of Criminology
X-ORIGINAL-URL:https://www.britsoccrim.org
X-WR-CALDESC:Events for British Society of Criminology
REFRESH-INTERVAL;VALUE=DURATION:PT1H
X-Robots-Tag:noindex
X-PUBLISHED-TTL:PT1H
BEGIN:VTIMEZONE
TZID:Europe/London
BEGIN:DAYLIGHT
TZOFFSETFROM:+0000
TZOFFSETTO:+0100
TZNAME:BST
DTSTART:20230326T010000
END:DAYLIGHT
BEGIN:STANDARD
TZOFFSETFROM:+0100
TZOFFSETTO:+0000
TZNAME:GMT
DTSTART:20231029T010000
END:STANDARD
END:VTIMEZONE
BEGIN:VEVENT
DTSTART;TZID=Europe/London:20230331T123000
DTEND;TZID=Europe/London:20230331T140000
DTSTAMP:20260425T185849
CREATED:20230309T123930Z
LAST-MODIFIED:20230309T123930Z
UID:11799-1680265800-1680271200@www.britsoccrim.org
SUMMARY:BSC Learning and Teaching Network free online seminar
DESCRIPTION:BSC Learning and Teaching Network free online seminar: Creating Student Communities in Criminology. \nHear about innovative ways in which a sense of community has been fostered amongst criminology students in this free online seminar. \n  \nThe BSC Learning and Teaching Network is delighted to host this free online seminar\, that explores a series of innovations in the development of student communities in criminology. \nThe 90-minute seminar comprises two 30-minute presentations\, followed by 30 minutes for questions and networking. \nAn overview of each presentation is provided below: \n  \nWhat Works for ‘Authentic Belonging’ Enhancement in Criminology? \nChristine Haddow and Jackie Brodie (Edinburgh Napier University) \nEnhancing belonging and community is an area of strategic priority in research\, within institutions and across the HE sector (Campbell\, 2019; Robertson et al.\, 2019). The COVID-19 pandemic has thrown into sharp focus the need to galvanise student communities and enhance belonging to support student attainment and engagement\, and as a buffer to mental health challenges (Blignaut et al.\, 2021; Gopalan et al.\, 2021). Yet as a concept\, belonging remains contested and complex\, and insights into its practical enhancement to support the development of communities as we move forward\, are limited. In Criminology\, a very small body of research has explored belonging or the various communities our students may feel part of (Dabney\, Green and Volkan\, 2006; Maunder\, 2018; van Herpen et al. 2020). In seeking to address this gap\, we propose the concept of ‘authentic belonging’\, which emerged through the qualitative evaluation of a suite of belonging focused mini-projects conducted at Edinburgh Napier University. This presentation will explore and unpack the meaning of community and belonging in Criminology and provide practical recommendations for their enhancement within the discipline. In doing so\, the paper provides a blueprint for criminologists seeking to strengthen the bonds of community for their learner cohorts. \n  \nPartners in Crime: Inclusion and Belonging on a Criminology Programme \nSuzanne Young (University of Leeds) \nThis presentation will discuss the Partners in Crime initiative introduced into BA Criminology and Criminal Justice programme in the School of Law at the University of Leeds. Criminology courses are not always diverse\, meaning that students can feel marginalized if they don’t see themselves as belonging to the cohort\, which can result in feelings of isolation and disengagement. This initiative grew from students wanting a greater sense of course identity and belonging within the School of Law\, and a desire to meet other students on the programme. The student led peer support initiative gave new 1st year students the opportunity to meet others in their cohort and in other year groups\, whereby they were paired together during induction week. A background to the initiative\, how it operated both on campus and online\, and the student feedback will be presented while discussing the benefits of peer support to enhance a sense of belonging. \n  \nShould you have any queries about this event\, please contact Sean Butcher (s.b.butcher@leeds.ac.uk).
URL:https://www.britsoccrim.org/event/bsc-learning-and-teaching-network-free-online-seminar/
CATEGORIES:BSC event
END:VEVENT
END:VCALENDAR