BEGIN:VCALENDAR
VERSION:2.0
PRODID:-//British Society of Criminology - ECPv5.14.1//NONSGML v1.0//EN
CALSCALE:GREGORIAN
METHOD:PUBLISH
X-WR-CALNAME:British Society of Criminology
X-ORIGINAL-URL:https://www.britsoccrim.org
X-WR-CALDESC:Events for British Society of Criminology
REFRESH-INTERVAL;VALUE=DURATION:PT1H
X-Robots-Tag:noindex
X-PUBLISHED-TTL:PT1H
BEGIN:VTIMEZONE
TZID:Europe/London
BEGIN:DAYLIGHT
TZOFFSETFROM:+0000
TZOFFSETTO:+0100
TZNAME:BST
DTSTART:20230326T010000
END:DAYLIGHT
BEGIN:STANDARD
TZOFFSETFROM:+0100
TZOFFSETTO:+0000
TZNAME:GMT
DTSTART:20231029T010000
END:STANDARD
END:VTIMEZONE
BEGIN:VEVENT
DTSTART;TZID=Europe/London:20230524T140000
DTEND;TZID=Europe/London:20230524T170000
DTSTAMP:20260425T174111
CREATED:20230407T112320Z
LAST-MODIFIED:20230418T112829Z
UID:12071-1684936800-1684947600@www.britsoccrim.org
SUMMARY:BSC Midlands Region & University of Derby seminar: Criminology and Social Harm. 
DESCRIPTION:The BSC Midlands Region\, in collaboration with the University of Derby’s College of Business\, Law and Social Sciences\, will be running a seminar on Wednesday 24 May at 2pm in room 201 Friargate Squate\, University of Derby. There are three really interesting speakers from both Derby and Nottingham University. \nRefreshments will be provided on arrival and at the end of the afternoon and we hope that you will stay and join us afterwards for further discussions in an informal social atmosphere. It will provide a good chance for colleagues to get together. \nIf you would like further information or would like to register your attendance please click here.
URL:https://www.britsoccrim.org/event/bsc-midlands-region-university-of-derby-seminar-criminology-and-social-harm-24-may-2023/
CATEGORIES:BSC event
END:VEVENT
END:VCALENDAR