BEGIN:VCALENDAR
VERSION:2.0
PRODID:-//British Society of Criminology - ECPv5.14.1//NONSGML v1.0//EN
CALSCALE:GREGORIAN
METHOD:PUBLISH
X-WR-CALNAME:British Society of Criminology
X-ORIGINAL-URL:https://www.britsoccrim.org
X-WR-CALDESC:Events for British Society of Criminology
REFRESH-INTERVAL;VALUE=DURATION:PT1H
X-Robots-Tag:noindex
X-PUBLISHED-TTL:PT1H
BEGIN:VTIMEZONE
TZID:Europe/London
BEGIN:DAYLIGHT
TZOFFSETFROM:+0000
TZOFFSETTO:+0100
TZNAME:BST
DTSTART:20220327T010000
END:DAYLIGHT
BEGIN:STANDARD
TZOFFSETFROM:+0100
TZOFFSETTO:+0000
TZNAME:GMT
DTSTART:20221030T010000
END:STANDARD
BEGIN:DAYLIGHT
TZOFFSETFROM:+0000
TZOFFSETTO:+0100
TZNAME:BST
DTSTART:20230326T010000
END:DAYLIGHT
BEGIN:STANDARD
TZOFFSETFROM:+0100
TZOFFSETTO:+0000
TZNAME:GMT
DTSTART:20231029T010000
END:STANDARD
END:VTIMEZONE
BEGIN:VEVENT
DTSTART;TZID=Europe/London:20230202T180000
DTEND;TZID=Europe/London:20230202T193000
DTSTAMP:20260422T234404
CREATED:20230117T093353Z
LAST-MODIFIED:20230117T093353Z
UID:11463-1675360800-1675366200@www.britsoccrim.org
SUMMARY:BSC Race Matters Network Race and Justice Seminar Series
DESCRIPTION:Speakers: Dr Niina Vuolajärvi and Prof Nick Mai \n  \nPanel Title: Migration and Sex Work. \n  \nRegistration link: https://www.bbk.ac.uk/events/remote_event_view?id=35804 \n  \nSpeaker 1: Niina Vuolajärvi  \nTitle:  Looking for a different kind of abolitionism. Sex Work\, Migration and the Feminist Politics of Care \nNiina Vuolajärvi is an Assistant Professor in International Migration at the European Institute\, London School of Economics and Political Science (LSE). Her interdisciplinary research is situated in the fields of migration\, feminist\, and socio-legal studies. Niina’s projects have investigated migrant sex work\, prostitution and migration policies\, post-deportation experiences\, and race and colonial legacies in Europe. \nFor more information\, see: https://vuolajarvi.weebly.com/ and https://www.lse.ac.uk/european-institute/people/vuolajarvi-niina \n  \nSpeaker 2: Nick Mai \nTitle: Queering Sexual Humanitarianism Through Collaborative Ethnographic Filmmaking \nNick Mai will present an analysis of the evolution of his research and co-creative filmmaking with migrant sex workers. He will present different attempts to queer the politics of representation framing contemporary humanitarian and other documentary genres (including ethno-fiction) in relation to the ethical and visual constraints posed by the stigmatisation of their protagonists. \nNick Mai is a filmmaker\, ethnographer and sociologist working as Professor of Criminology at the University of Leicester. His research findings\, publicatyions and films focus on the experiences and representations of stigmatised and criminalised migrant groups. Through collaborative\, participative and co-creative methodologies my work aims to put their own priorities\, needs and trajectories at the centre of the research findings\, representations and policies. Nick is the author of Mobile Orientations: An Intimate Autoethnography of Migration\, Sex Work\, and Humanitarian Borders (Chicago University Press\, 2018). For more information: www.nicolamai.org \n  \nRace and Justice Series \nThis event is hosted by the Department of Criminology and supported by the British Society of Criminology’s Race Matters Network. For further information\, please contact the event organiser and Race Matters Network coordinator Dr Monish Bhatia (m.bhatia@bbk.ac.uk). \nThis event is open to the public and free to attend however booking is required via this page. The event will be hosted on MS Teams\, a free to access website. You will be sent a link to access the event on the day.
URL:https://www.britsoccrim.org/event/bsc-race-matters-network-race-and-justice-seminar-series-2/
CATEGORIES:BSC event
END:VEVENT
BEGIN:VEVENT
DTSTART;TZID=Europe/London:20230201T160000
DTEND;TZID=Europe/London:20230201T173000
DTSTAMP:20260422T234404
CREATED:20230117T095023Z
LAST-MODIFIED:20230117T095023Z
UID:11468-1675267200-1675272600@www.britsoccrim.org
SUMMARY:BSC Historical Criminology Network seminar series: Workshopping Critical Race Theory in British Criminology: Why the Outrage?
DESCRIPTION:Anti-Fascism\, Decolonisation & Critical Race Theory. \n  \n\nPresenter Biographies & Session Information \nDr Esmorie Miller is a Lecturer in Criminology\, Lancaster University\, Lancaster\, UK. \n\nWorkshopping Critical Race Theory in British Criminology: Why the Outrage?\nChair: Lizzie Seal\n\nRegister here.
URL:https://www.britsoccrim.org/event/bsc-historical-criminology-network-seminar-series-workshopping-critical-race-theory-in-british-criminology-why-the-outrage/
END:VEVENT
BEGIN:VEVENT
DTSTART;TZID=Europe/London:20230118T090000
DTEND;TZID=Europe/London:20230118T173000
DTSTAMP:20260422T234404
CREATED:20221128T121529Z
LAST-MODIFIED:20221128T121529Z
UID:10904-1674032400-1674063000@www.britsoccrim.org
SUMMARY:Reimagining Probation and the Rehabilitation of Offenders conference
DESCRIPTION:The BSC Midland Regional branch and University of Wolvershapton 1-day conference: Reimagining Probation and the Rehabilitation of Offenders. \nThis conference aims to explore new developments\, policies\, and practices in probation and the rehabilitation of offenders. \nUniversity of Wolverhampton – City Campus Wulfruna Street Wolverhampton WV1 1LY \nThis conference aims to explore new developments\, policies\, and practices in probation and the rehabilitation of offenders. The new era of the renationalisation of the Probation Service in England and Wales has established a redefined reality for the service where both low- and high-risk offenders are supervised by the National Probation Service. This has also meant the introduction and involvement of new and existing partners in the supervision of offenders in both prison and community settings. The Target Operating Model for probation services in England and Wales published in early 2021 has set renewed principles\, anticipated benefits\, and promises for offenders\, victims\, and probation officers in the renationalised infrastructure of probation. These ranging from transforming through partnerships\, an open culture\, and consistent supervision to changes in the language of probation\, modernising estates\, and more manageable workloads remain to be evaluated in both academia and practice. This conference thereby invites academics and practitioners to discuss their experiences\, examinations\, or expectations of this renationalisation enterprise and further appraise what path the new model imagines for probation and the rehabilitation of offenders. In addition\, the conference is interested in other developments in the area that may have accompanied renationalisation\, such as OMiC\, IOM (Refresh) and others and their impact on the culture and practice of probation and associated services. Due to the collaborative ethos the new model aims to establish\, academics and practitioners are invited to share their research and experience with multi-agency work in probation too – whether that involves criminal justice or non-criminal justice agencies\, Multi-Agency Public Protection Arrangements\, or the future of victim work and victim liaison agencies in the reintegration of offenders. The conference also appreciates how the renationalisation era has come after the challenging part-privatised state of the Probation Service which has been heavily criticised by academics\, practitioners\, and service users alike. As such\, it also invites discussion of the aftermath of part-privatisation of the service in relation to the state in which renationalisation has found probation services\, and\, crucially\, the continuing impact of the Transforming Rehabilitation policy. Finally\, the conference is interested in comparative approaches as well as experience or research on probation from other jurisdictions which may demonstrate developments in working with offenders and new rehabilitation policies outside England and Wales too. \nFull details about the event\, including the infromatoin on the schedule\, key speakers and registration details can be found here.
URL:https://www.britsoccrim.org/event/reimagining-probation-and-the-rehabilitation-of-offenders-conference/
CATEGORIES:BSC event
END:VEVENT
BEGIN:VEVENT
DTSTART;TZID=Europe/London:20221215T180000
DTEND;TZID=Europe/London:20221215T193000
DTSTAMP:20260422T234404
CREATED:20221128T121201Z
LAST-MODIFIED:20221128T121201Z
UID:10901-1671127200-1671132600@www.britsoccrim.org
SUMMARY:Race and Justice Seminar Series
DESCRIPTION:Counterterrorism in the UK: The Policing of Muslims in the name of fighting armed Muslim Groups \nIn this session\, Rizwaan Sabir will critically map the connections between counterinsurgency warfare and the domestic ‘war on terror’ being fought in the United Kingdom through policing\, counterterrorism\, and counter-extremism policy\, law\, and practice. The session will draw upon Sabir’s recently published book ‘The Suspect’ which employs counterinsurgency warfare theory and doctrine to conceptualize and frame his experience of being arrested and detained by UK authorities on suspicion of terrorism for possessing a document he downloaded from the US Department of Justice website for his research on armed Muslim groups\, and years of subsequent surveillance and state interest he was subjected to on his release (without charge) from custody. \nSabir will outline how and why the employment of counterinsurgency approaches to the policing of terrorism are fundamentally concerned with pre-emptively neutralizing threats before they manifest into violence and how such an approach de-politicizes and de-historicizes armed Muslim struggle (and political Islam more broadly). He will also examine how this pre-emptive approach to counterterrorism constructs armed Muslim struggle as a ‘new’ form of terrorism\, and how such a reading signifies Muslims as dangerous and risky; making securitization\, coercion\, and conflict the logical outcome of counterterrorism policy. The lecture concludes with some suggestions around how a human-rights orientated approach that centers and recognizes the role of socio-economics and notably politics is critical to understanding and addressing the issue of terrorism and counterterrorism in the UK (and the west more broadly)\, and how communities of struggle can contest\, challenge\, and resist securitization and counterterrorism policy and practice. \nBio: Dr Rizwaan Sabir is an Assistant Professor in Criminology at the School of Justice Studies at Liverpool John Moores University (UK)\, and author of the book ‘The Suspect: Counterterrorism\, Islam\, and the Security State’ (Pluto\, 2022). In addition to providing analysis and commentary in the written and broadcast media for the Guardian\, Al-Jazeera\, TRT World\, and the BBC\, he briefs lawyers\, community groups\, and policy makers at the UK Parliament\, United Nations\, and the Council of Europe. He can be contacted via email R.Sabir@ljmu.ac.uk or followed on Twitter at the following handle: @RizwaanSabir \n—— \nSpeaker: Tarek Younis \nThe Muslim\, State and Mind: The Psychologisation of Counter-Extremism \nMental health is positioned as the cure-all for society’s discontents\, from pandemics to terrorism. But psychology and psychiatry are not apolitical\, and neither are Muslims. In this session\, Tarek Younis unpacks where the politics of the psy-disciplines and the politics of Muslims overlaps\, demonstrating how psychological theories and practices serve State interests and perpetuate inequality—especially racism and Islamophobia. Viewing the psy-disciplines from the margins\, Younis will draw upon his forthcoming book to illustrate how these necessarily serve the State in the production of loyal\, low-risk and productive citizens\, offering a modern discussion of three paradigms underlying the psy-disciplines: neoliberalism\, security and the politics of mental health. \nBio: Dr Tarek Younis is a Senior Lecturer in Psychology at Middlesex University. He researches and writes on Islamophobia\, racism in mental health\, the securitisation of clinical settings and the politics of psychology. He teaches on the impact of culture\, religion\, globalisation\, and security policies on mental health. As a registered clinical psychologist\, he primarily attends to experiences of racism\, Islamophobia\, and state violence in his private practice. His book is called The Muslim\, State and Mind: Psychology in Times of Islamophobia. \n—— \nDiscussant: Arun Kundnani \nKundnani writes about racial capitalism and Islamophobia\, surveillance and political violence\, and Black radical movements. He is the author of The Muslims are Coming! Islamophobia\, extremism\, and the domestic War on Terror (Verso\, 2014) and The End of Tolerance: racism in 21st century Britain (Pluto\, 2007)\, which was selected as a New Statesman book of the year. He has written for the Nation\, the Guardian\, the Washington Post\, Vice\, and The Intercept. Born in London\, he moved to New York in 2010. A former editor of the journal Race & Class\, he was miseducated at Cambridge University\, and holds a PhD from London Metropolitan University. He has been an Open Society fellow and a scholar-in-residence at the Schomburg Center for Research in Black Culture\, New York Public Library. \nRegister here.
URL:https://www.britsoccrim.org/event/race-and-justice-seminar-series-2/
END:VEVENT
BEGIN:VEVENT
DTSTART;TZID=Europe/London:20221209T123000
DTEND;TZID=Europe/London:20221209T140000
DTSTAMP:20260422T234404
CREATED:20221121T112505Z
LAST-MODIFIED:20221121T112505Z
UID:10889-1670589000-1670594400@www.britsoccrim.org
SUMMARY:BSC Learning and Teaching Network - Managing Difficult Conversations in the Classroom
DESCRIPTION:Hear about innovative approaches towards managing challenging criminological conversations in this free online seminar that explores a series of pedagogically-informed approaches to managing difficult conversations in learning spaces. \nThe 90-minute seminar comprises two 30-minute presentations\, followed by 30 minutes for questions and networking. \nCultivating trauma-informed pedagogies in criminology: Insights from student victim-survivors. Julia Downes (The Open University) \nMany people with lived experience of injustice and violence are drawn to criminology; however\, criminology has traditionally kept lived experience and victimisation at its margins. Survivor criminology emphasises the importance of listening to lived experience (Cook et al.\, 2022)\, so how can educators hold space for classroom discussions of sensitive and controversial topics with students from different backgrounds and levels of lived experience? I will share findings from an educational research project on how students learn sensitive topics in criminology at The Open University (Downes\, Wall & Alvaer 2022) and a digital toolkit co-produced with students and tutors as part of the Positive Digital Practices project. In attending to the experiences of student victim-survivors studying gender-based violence I emphasise how supporting the strengths\, capacities\, and skills of those of us with lived experience can transform the criminological classroom. \nA recent THE Campus article related to the particulars of this presentation can be found here. \nAn inclusive learning design approach to individual and socially sensitive topics in the classroom. Rachael Burns and Cynthia Meersohn Schmidt (University of York) \nWith a broad outlook on mental wellbeing in the classroom\, we aim to introduce perspectives and strategies that can serve colleagues in Higher and Further Education to introduce and discuss difficult topics in the classroom. We will be drawing from cases from our teaching experience including on topics such as hate crime and debating social anxiety as a medical gaze. \nShould you have any queries about this event\, please contact Sean Butcher (s.b.butcher@leeds.ac.uk). \nRegister for the seminar here.
URL:https://www.britsoccrim.org/event/bsc-learning-and-teaching-network-managing-difficult-conversations-in-the-classroom/
CATEGORIES:BSC event
END:VEVENT
BEGIN:VEVENT
DTSTART;TZID=Europe/London:20221130T160000
DTEND;TZID=Europe/London:20221130T173000
DTSTAMP:20260422T234404
CREATED:20221115T115054Z
LAST-MODIFIED:20221115T115054Z
UID:10842-1669824000-1669829400@www.britsoccrim.org
SUMMARY:Historical Criminology Network seminar series
DESCRIPTION:Locating contemporary concerns within wider historical criminological interests\, in academia and beyond. \nRacist-Gendered State Violence: Punishing Migrant Women and Separating Families \nDr Monish Bhatia is a Lecturer in Criminology\, Birkbeck University\, London\, UK. \nChair: Karina Garcia-Reyes \nRegister via Eventbrite
URL:https://www.britsoccrim.org/event/historical-criminology-network-seminar-series-3/
CATEGORIES:BSC event
END:VEVENT
BEGIN:VEVENT
DTSTART;TZID=Europe/London:20221117T180000
DTEND;TZID=Europe/London:20221117T193000
DTSTAMP:20260422T234404
CREATED:20221102T105558Z
LAST-MODIFIED:20221102T105558Z
UID:10794-1668708000-1668713400@www.britsoccrim.org
SUMMARY:BSC Race Matters Network: Race and Justice Seminar Series.
DESCRIPTION:Crisis Ordinariness and Racial Justice. \nSpeaker: Prof Nasar Meer. Nasar Meer is Professor of Sociology in the School of Social and Political Sciences and Director of RACE.ED at the University of Edinburgh. \nThis talk explores how societies adapt to a form of ‘crisis ordinariness’ (Berlant 2011) in which the regularity of racial injustice prevails without the need for pre-meditated racist intentions. Underwritten by a ‘racial contract’ (Mills 1997)\, and propelled by racial mechanics in seemingly disparate and ancillary social spheres (Meer 2022)\, the argument advanced here is that social systems bear the imprints of older racial injustices that are not merely restated but re-articulated in ways that may be novel\, and yet share common properties with how other racial projects have been curated and sustained. Seeing racial injustice as systemic\, therefore\, better allows us to grasp the nature of the challenge we face. \nThe event is online and free to attend. Register here. For further information\, please contact the event organiser and Race Matters Network co-coordinator Dr Monish Bhatia (m.bhatia@bbk.ac.uk).
URL:https://www.britsoccrim.org/event/bsc-race-matters-network-race-and-justice-seminar-series/
END:VEVENT
BEGIN:VEVENT
DTSTART;TZID=Europe/London:20221109T160000
DTEND;TZID=Europe/London:20221109T173000
DTSTAMP:20260422T234404
CREATED:20221103T120651Z
LAST-MODIFIED:20221103T120658Z
UID:10812-1668009600-1668015000@www.britsoccrim.org
SUMMARY:BSC Prisons Research Network Event
DESCRIPTION:9 November 2022\, 16:00 – 17:30 GMT \nGet excited! Shadd Maruna joins us with colleagues from User Voice to talk all things about peer and prison research. \nRegister here. \n 
URL:https://www.britsoccrim.org/event/bsc-prisons-research-network-event/
CATEGORIES:BSC event
END:VEVENT
BEGIN:VEVENT
DTSTART;TZID=Europe/London:20221102T160000
DTEND;TZID=Europe/London:20221102T173000
DTSTAMP:20260422T234404
CREATED:20221102T105434Z
LAST-MODIFIED:20221102T105434Z
UID:10792-1667404800-1667410200@www.britsoccrim.org
SUMMARY:Historical Criminology Network seminar series
DESCRIPTION:Locating contemporary concerns within wider historical criminological interests\, in academia and beyond. \nSeminar 2: Decolonialization and Counter-Colonial Criminology \nPresenter: Dr Biko Agozino is a Professor of Sociology\, Virginia Tech University\, Virginia\, USA. \nChair: Esmorie Miller \nRegister via Eventbrite \nAbout the seminar series \nWhat role can a historical criminology platform have in matters of contemporary concern? Where do our contemporary concerns with topics such as anti-fascism\, decolonization\, gender\, free speech\, and critical race theory intersect with the multidisciplinary logics guiding criminological observance of historical methods\, pedagogies\, and wider community participatory action? @BSC’s #HCNet brings together a seminar series covering this multidisciplinary range of contemporary ideas\, allowing attendees to ‘meet’ specialists virtually\, taking the opportunity to interrogate the extent which history intersects with the contemporary. Our aim is to provide a platform to support rich discussion\, with the chance to locate contemporary conversations within wider historical criminological interests\, in academia and beyond \n 
URL:https://www.britsoccrim.org/event/historical-criminology-network-seminar-series-2/
END:VEVENT
BEGIN:VEVENT
DTSTART;TZID=Europe/London:20221021T093000
DTEND;TZID=Europe/London:20221021T160000
DTSTAMP:20260422T234404
CREATED:20220927T140126Z
LAST-MODIFIED:20220927T140126Z
UID:10534-1666344600-1666368000@www.britsoccrim.org
SUMMARY:BSC Victims Network and Women\, Crime and Criminal Justice Network one-day conference on perpetrators of violence against women
DESCRIPTION:The British Society of Criminology Victims Network (BSCVN) and Women\, Crime and Criminal Justice Network (WCCJN) are pleased to announce a one-day conference on perpetrators of violence against women. \n9.30am-4pm\, 21 October 2022.  Followed by a wine reception. City University\, London. \nConfirmed keynote speakers: \n• Dr Michael Flood (Queensland University of Technology (QUT) (Research)\n• Jo Todd\, CEO Respect (Practice)\n• Other TBC \nOver the last four decades\, significant attention has been paid to men’s violence against women and girls. Much of this has focused on victimisation – studying the prevalence\, nature\, impacts and consequences of violence against women – which has informed legislative reform and policy implementation with the aim of preventing VAWG and improving criminal justice and support outcomes for survivors. This has informed\, and been informed by\, feminist theory and research\, and Victimology as a specific sub-discipline of Criminology. \nBy contrast\, perpetrators of violence against women and girls have been understudied\, perhaps with the exception of child sex offenders where research has been most concentrated. The evidence gaps in relation to perpetrators have recently been acknowledged by the UK Government who have commissioned research and pilot projects on perpetrators of domestic violence to inform the wider Violence Against Women and Girls Strategy and forthcoming Domestic Abuse Act (2021) which acknowledges the need to focus on perpetrators both in terms of prevention and responding to violence against women. In Europe\, the Council of Europe Parliamentary Assembly has highlighted the importance of focusing on perpetrators of VAWG and called for member states to enhance knowledge to inform perpetrator programmes and prevention work. Over the last decade there has been some research on perpetrator programmes (Kelly and Westmarland\, 2014) but this remains fairly limited. Moreover\, emerging research on working with men and boys has attested to the importance of conducting work with men generally\, as well as those already known as perpetrators (Burrell\, 2018; 2019) but there remain significant gaps in this area. \nWe hope to use the conference as a platform to stimulate discussion and collaboration and intend to submit a proposal for a Special Issue based on some of the papers presented at the conference. \nThe event is free to attend and you can register here. \nRoom details to be confirmed closer to the time
URL:https://www.britsoccrim.org/event/bsc-victims-network-and-women-crime-and-criminal-justice-network-one-day-conference-on-perpetrators-of-violence-against-women/
CATEGORIES:BSC event
END:VEVENT
BEGIN:VEVENT
DTSTART;TZID=Europe/London:20221020T193000
DTEND;TZID=Europe/London:20221020T193000
DTSTAMP:20260422T234404
CREATED:20221019T105831Z
LAST-MODIFIED:20221019T105831Z
UID:10685-1666294200-1666294200@www.britsoccrim.org
SUMMARY:Race and Justice Seminar Series.
DESCRIPTION:Speaker: Professor Ana Aliverti\, University of Warwick. \nTitle: Policing the Borders Within: Globalisation\, State Power and Magic \n Speaker Bio: Ana Aliverti is a Professor of Law at the School of Law\, University of Warwick. She holds a D.Phil. in Law (Oxford\, 2012)\, an MSc in Criminology and Criminal Justice (Distinction\, Oxford\, 2008)\, an MA in Sociology of Law (IISL\, 2005) and a BA in Law (Honours\, Buenos Aires\, 2002). Her research explores questions of national identity and belonging in criminal justice\, and of law\, sovereignty and globalisation. She has led extensive empirical work in the UK’s criminal justice and immigration systems. She is the author of Crimes of Mobility (Routledge\, 2013) and Policing the Borders Within (OUP\, 2021). She was co-awarded the British Society of Criminology Best Book Prize for 2014\, and received the British Academy Rising Star Engagement Award (BARSEA) (2015)\, the Philip Leverhulme Prize in Law (2017)\, and the British Journal of Criminology’s Radzinowicz Prize for her article ‘Benevolent Policing? Vulnerability and the Moral Pains of Border Controls. She is co-Director of the Criminal Justice Centre at Warwick and the Associate Director of Border Criminologies. \nRace and Justice Series \nThis event is part of the Department of Criminology’s Race and Justice Series and is supported by the by the British Society of Criminology’s Race Matters Network. For further information\, please contact the event organiser and Race Matters Network co-coordinator Dr Monish Bhatia (m.bhatia@bbk.ac.uk). \nThis event is open to the public and free to attend however booking is required via this page https://www.bbk.ac.uk/events/remote_event_view?id=34192. The event will be hosted on MS Teams\, a free to access website. You will be sent a link to access the event on the day.
URL:https://www.britsoccrim.org/event/race-and-justice-seminar-series/
END:VEVENT
BEGIN:VEVENT
DTSTART;TZID=Europe/London:20221019T160000
DTEND;TZID=Europe/London:20221019T173000
DTSTAMP:20260422T234404
CREATED:20220927T135940Z
LAST-MODIFIED:20220927T135940Z
UID:10532-1666195200-1666200600@www.britsoccrim.org
SUMMARY:Historical Criminology Network seminar series
DESCRIPTION:Locating contemporary concerns within wider historical criminological interests\, in academia and beyond. \nSeminar 1: What is Fascism and Where Does it Come From? \nPresenter: Dr Geoff Eley  Karl Pohrt Distinguished University Professor of Contemporary History\, University of Michigan\, Michigan\, USA. \n4-5.30pm (BST) 19 October 2022\, \nChair: Lizzie Seal \nRegister via Eventbrite \nAbout the seminar series \nWhat role can a historical criminology platform have in matters of contemporary concern? Where do our contemporary concerns with topics such as anti-fascism\, decolonization\, gender\, free speech\, and critical race theory intersect with the multidisciplinary logics guiding criminological observance of historical methods\, pedagogies\, and wider community participatory action? @BSC’s #HCNet brings together a seminar series covering this multidisciplinary range of contemporary ideas\, allowing attendees to ‘meet’ specialists virtually\, taking the opportunity to interrogate the extent which history intersects with the contemporary. Our aim is to provide a platform to support rich discussion\, with the chance to locate contemporary conversations within wider historical criminological interests\, in academia and beyond
URL:https://www.britsoccrim.org/event/historical-criminology-network-seminar-series/
END:VEVENT
BEGIN:VEVENT
DTSTART;TZID=Europe/London:20221011T170000
DTEND;TZID=Europe/London:20221011T200000
DTSTAMP:20260422T234404
CREATED:20220927T135838Z
LAST-MODIFIED:20220927T135838Z
UID:10530-1665507600-1665518400@www.britsoccrim.org
SUMMARY:Centre for the Study of International Slavery (CSIS) free film screening
DESCRIPTION:To celebrate Black History Month\, the Centre for the Study of International Slavery (CSIS) will be screening the American documentary film Free Renty (2021). \nTuesday October 11th from 5-8pm at the Yoko Ono Lennon Centre\, Oxford Street\, Liverpool. L7 3NY. \nThis documentary epitomizes this years Black History Month theme\, ‘Time for Change: Action Not Words’ by inviting viewers to engage with ongoing debates surrounding decolonizing academic archives and curriculum.  The film’s Director\, David Grubin\, will also Zoom in for a live Q&A after the screening. \nThe event is free but you need to register here.
URL:https://www.britsoccrim.org/event/centre-for-the-study-of-international-slavery-csis-free-film-screening/
END:VEVENT
BEGIN:VEVENT
DTSTART;TZID=Europe/London:20220915T103000
DTEND;TZID=Europe/London:20220915T163000
DTSTAMP:20260422T234404
CREATED:20220905T095737Z
LAST-MODIFIED:20220905T100131Z
UID:10239-1663237800-1663259400@www.britsoccrim.org
SUMMARY:Children’s Human Rights and Youth Justice: Progress\, Challenges and Visions
DESCRIPTION:Children’s Human Rights and Youth Justice: Progress\, Challenges and Visions  \nThursday 15th September 2022\, 10:30am – 4:30pm (registration from 09.30am).\n  \nA one-day conference organised by the National Association for Youth Justice (NAYJ) and hosted by the International Criminological Research Unit (ICRU)\, the University of Liverpool.  \nMore details and registration: https://www.liverpool.ac.uk/law-and-social-justice/events/youth-justice-conference-22/ 
URL:https://www.britsoccrim.org/event/10239/
LOCATION:University of Liverpool\, United Kingdom
END:VEVENT
END:VCALENDAR