BEGIN:VCALENDAR
VERSION:2.0
PRODID:-//British Society of Criminology - ECPv5.14.1//NONSGML v1.0//EN
CALSCALE:GREGORIAN
METHOD:PUBLISH
X-WR-CALNAME:British Society of Criminology
X-ORIGINAL-URL:https://www.britsoccrim.org
X-WR-CALDESC:Events for British Society of Criminology
REFRESH-INTERVAL;VALUE=DURATION:PT1H
X-Robots-Tag:noindex
X-PUBLISHED-TTL:PT1H
BEGIN:VTIMEZONE
TZID:Europe/London
BEGIN:DAYLIGHT
TZOFFSETFROM:+0000
TZOFFSETTO:+0100
TZNAME:BST
DTSTART:20230326T010000
END:DAYLIGHT
BEGIN:STANDARD
TZOFFSETFROM:+0100
TZOFFSETTO:+0000
TZNAME:GMT
DTSTART:20231029T010000
END:STANDARD
END:VTIMEZONE
BEGIN:VEVENT
DTSTART;TZID=Europe/London:20230421T140000
DTEND;TZID=Europe/London:20230421T160000
DTSTAMP:20260425T174110
CREATED:20230411T111820Z
LAST-MODIFIED:20230411T111820Z
UID:12037-1682085600-1682092800@www.britsoccrim.org
SUMMARY:Blog online writing workshop
DESCRIPTION:Attention BSC members \nYou know that blog post you’ve been thinking about / working on / finishing off or ages? Do you need a gentle push to get it started / finished / submitted? If so\, read on… \nThe British Society of Criminology wants to assist and encourage submissions to the BSC Blog to showcase members’ cutting-edge criminological research\, theory\, and practice. On Friday 21 April\, 2-4pm\, we’ll be hosting a two-hour\, online session (via Zoom) dedicated to writing and sharing useful tips and tricks etc. The event is open to BSC members at all career stages\, working on / in any area of criminology. \nClick here for more information and to register. Any additional queries can be directed to Marian Duggan m.c.duggan@kent.ac.uk.
URL:https://www.britsoccrim.org/event/blog-online-writing-workshop/
CATEGORIES:BSC event
END:VEVENT
BEGIN:VEVENT
DTSTART;TZID=Europe/London:20230427T180000
DTEND;TZID=Europe/London:20230427T193000
DTSTAMP:20260425T174110
CREATED:20230411T111541Z
LAST-MODIFIED:20230411T111541Z
UID:12034-1682618400-1682623800@www.britsoccrim.org
SUMMARY:BSC Race Matters Network: Race and Justice Seminar Series
DESCRIPTION:Speaker: Dr Sarah Turnbull\, University of Waterloo \nTitle: Discover a world of cultures’: Diversity work as gendered racial governance in British immigration detention \nRegister here. \nDr Sarah Turnbull\, Assistant Professor in the Department of Sociology and Legal Studies at the University of Waterloo and a faculty member of the Balsillie School for International Affairs where she co-leads the Migration\, Mobilities\, and Social Politics Research Cluster. Her areas of interest include immigration detention and deportation; parole and re-entry; punishment\, abolition\, and the carceral state; postcolonial\, antiracist\, and feminist thought; and qualitative research methods. \n 
URL:https://www.britsoccrim.org/event/bsc-race-matters-network-race-and-justice-seminar-series-3/
CATEGORIES:BSC event
END:VEVENT
END:VCALENDAR